Package: SpectralTAD Version: 1.23.0 Command: rm -rf SpectralTAD.buildbin-libdir && mkdir SpectralTAD.buildbin-libdir && /Users/biocbuild/BBS/utils/build-universal.sh SpectralTAD_1.23.0.tar.gz /Library/Frameworks/R.framework/Resources/bin/R SpectralTAD.buildbin-libdir StartedAt: 2025-02-04 22:33:56 -0500 (Tue, 04 Feb 2025) EndedAt: 2025-02-04 22:34:01 -0500 (Tue, 04 Feb 2025) EllapsedTime: 5.1 seconds RetCode: 0 Status: OK PackageFile: SpectralTAD_1.23.0.tgz PackageFileSize: 1.472 MiB