Package: SpectraQL
Version: 1.1.0
Command: /Library/Frameworks/R.framework/Resources/bin/R CMD INSTALL SpectraQL
StartedAt: 2025-02-19 15:13:54 -0500 (Wed, 19 Feb 2025)
EndedAt: 2025-02-19 15:14:06 -0500 (Wed, 19 Feb 2025)
EllapsedTime: 12.6 seconds
RetCode: 0
Status: OK