Package: SpectraQL
Version: 1.1.0
Command: /Library/Frameworks/R.framework/Resources/bin/R CMD build --keep-empty-dirs --no-resave-data SpectraQL
StartedAt: 2025-02-19 18:22:50 -0500 (Wed, 19 Feb 2025)
EndedAt: 2025-02-19 18:23:16 -0500 (Wed, 19 Feb 2025)
EllapsedTime: 26.3 seconds
RetCode: 0
Status: OK
PackageFile: SpectraQL_1.1.0.tar.gz
PackageFileSize: 402.7 <A href="http://en.wikipedia.org/wiki/KiB" target="_blank">KiB</A>