Package: SpectraQL
Version: 1.1.0
Command: rm -rf SpectraQL.buildbin-libdir && mkdir SpectraQL.buildbin-libdir && /Users/biocbuild/BBS/utils/build-universal.sh SpectraQL_1.1.0.tar.gz /Library/Frameworks/R.framework/Resources/bin/R SpectraQL.buildbin-libdir
StartedAt: 2025-02-20 00:56:46 -0500 (Thu, 20 Feb 2025)
EndedAt: 2025-02-20 00:57:00 -0500 (Thu, 20 Feb 2025)
EllapsedTime: 14.0 seconds
RetCode: 0
Status: OK
PackageFile: SpectraQL_1.1.0.tgz
PackageFileSize: 424.4 <A href="http://en.wikipedia.org/wiki/KiB" target="_blank">KiB</A>