Package: SpectraQL
Version: 1.1.0
Command: /home/biocbuild/R/R/bin/R CMD check --install=check:SpectraQL.install-out.txt --library=/home/biocbuild/R/R/site-library --no-vignettes --timings SpectraQL_1.1.0.tar.gz
StartedAt: 2025-01-28 15:39:01 -0000 (Tue, 28 Jan 2025)
EndedAt: 2025-01-28 15:40:41 -0000 (Tue, 28 Jan 2025)
EllapsedTime: 99.1 seconds
RetCode: 0
Status: OK
CheckDir: SpectraQL.Rcheck
Warnings: 0