Package: SpectraQL
Version: 1.1.0
Command: /home/biocbuild/R/R/bin/R CMD build --keep-empty-dirs --no-resave-data SpectraQL
StartedAt: 2025-01-28 02:40:18 -0000 (Tue, 28 Jan 2025)
EndedAt: 2025-01-28 02:40:48 -0000 (Tue, 28 Jan 2025)
EllapsedTime: 30.0 seconds
RetCode: 0
Status: OK
PackageFile: SpectraQL_1.1.0.tar.gz
PackageFileSize: 486.7 <A href="http://en.wikipedia.org/wiki/KiB" target="_blank">KiB</A>