Package: SpectraQL
Version: 1.1.0
Command: /Library/Frameworks/R.framework/Resources/bin/R CMD INSTALL SpectraQL
StartedAt: 2025-02-19 15:07:47 -0500 (Wed, 19 Feb 2025)
EndedAt: 2025-02-19 15:07:51 -0500 (Wed, 19 Feb 2025)
EllapsedTime: 3.4 seconds
RetCode: 0
Status: OK