Package: SpectraQL Version: 1.1.0 Command: /Library/Frameworks/R.framework/Resources/bin/R CMD check --install=check:SpectraQL.install-out.txt --library=/Library/Frameworks/R.framework/Resources/library --no-vignettes --timings SpectraQL_1.1.0.tar.gz StartedAt: 2025-02-19 21:39:29 -0500 (Wed, 19 Feb 2025) EndedAt: 2025-02-19 21:40:04 -0500 (Wed, 19 Feb 2025) EllapsedTime: 34.4 seconds RetCode: 0 Status: OK CheckDir: SpectraQL.Rcheck Warnings: 0