Package: SpatialCPie
Version: 1.23.0
Maintainer: Joseph Bergenstraahle
MaintainerEmail: joseph.bergenstrahle at gmail.com
git_url: https://git.bioconductor.org/packages/SpatialCPie
git_branch: devel
git_last_commit: 8f8ad85
git_last_commit_date: 2024-10-29 10:33:47 -0500 (Tue, 29 Oct 2024)