Package: SpaceMarkers Version: 1.3.1 Command: E:\biocbuild\bbs-3.21-bioc\R\bin\R.exe CMD check --no-multiarch --install=check:SpaceMarkers.install-out.txt --library=E:\biocbuild\bbs-3.21-bioc\R\library --no-vignettes --timings SpaceMarkers_1.3.1.tar.gz StartedAt: 2025-02-20 05:40:17 -0500 (Thu, 20 Feb 2025) EndedAt: 2025-02-20 05:44:22 -0500 (Thu, 20 Feb 2025) EllapsedTime: 244.5 seconds RetCode: 0 Status: OK CheckDir: SpaceMarkers.Rcheck Warnings: 0