Package: SpaceMarkers
Version: 1.3.1
Command: chmod a+r SpaceMarkers -R && E:\biocbuild\bbs-3.21-bioc\R\bin\R.exe CMD build --keep-empty-dirs --no-resave-data SpaceMarkers
StartedAt: 2025-02-19 21:46:34 -0500 (Wed, 19 Feb 2025)
EndedAt: 2025-02-19 21:50:07 -0500 (Wed, 19 Feb 2025)
EllapsedTime: 212.3 seconds
RetCode: 0
Status: OK
PackageFile: SpaceMarkers_1.3.1.tar.gz
PackageFileSize: 2.89 <A href="http://en.wikipedia.org/wiki/MiB" target="_blank">MiB</A>