##############################################################################
##############################################################################
###
### Running command:
###
###   chmod a+r SpaceMarkers -R && E:\biocbuild\bbs-3.21-bioc\R\bin\R.exe CMD build --keep-empty-dirs --no-resave-data SpaceMarkers
###
##############################################################################
##############################################################################


* checking for file 'SpaceMarkers/DESCRIPTION' ... OK
* preparing 'SpaceMarkers':
* checking DESCRIPTION meta-information ... OK
* installing the package to build vignettes
* creating vignettes ... OK
* checking for LF line-endings in source and make files and shell scripts
* checking for empty or unneeded directories
* looking to see if a 'data/datalist' file should be added
* building 'SpaceMarkers_1.3.1.tar.gz'