Package: SpaceMarkers Version: 1.3.1 Command: rm -rf SpaceMarkers.buildbin-libdir && mkdir SpaceMarkers.buildbin-libdir && E:\biocbuild\bbs-3.21-bioc\R\bin\R.exe CMD INSTALL --build --library=SpaceMarkers.buildbin-libdir SpaceMarkers_1.3.1.tar.gz StartedAt: 2025-02-20 08:49:35 -0500 (Thu, 20 Feb 2025) EndedAt: 2025-02-20 08:50:01 -0500 (Thu, 20 Feb 2025) EllapsedTime: 25.6 seconds RetCode: 0 Status: OK PackageFile: SpaceMarkers_1.3.1.zip PackageFileSize: 2.847 <A href="http://en.wikipedia.org/wiki/MiB" target="_blank">MiB</A>