Package: SimFFPE Version: 1.19.0 Command: E:\biocbuild\bbs-3.21-bioc\R\bin\R.exe CMD INSTALL SimFFPE StartedAt: 2025-02-19 15:40:57 -0500 (Wed, 19 Feb 2025) EndedAt: 2025-02-19 15:41:18 -0500 (Wed, 19 Feb 2025) EllapsedTime: 20.7 seconds RetCode: 0 Status: OK