Package: SimFFPE Version: 1.19.0 Command: chmod a+r SimFFPE -R && E:\biocbuild\bbs-3.21-bioc\R\bin\R.exe CMD build --keep-empty-dirs --no-resave-data SimFFPE StartedAt: 2025-02-19 21:41:34 -0500 (Wed, 19 Feb 2025) EndedAt: 2025-02-19 21:43:20 -0500 (Wed, 19 Feb 2025) EllapsedTime: 105.3 seconds RetCode: 0 Status: OK PackageFile: SimFFPE_1.19.0.tar.gz PackageFileSize: 750 <A href="http://en.wikipedia.org/wiki/KiB" target="_blank">KiB</A>