Package: SimFFPE
Version: 1.19.0
Command: rm -rf SimFFPE.buildbin-libdir && mkdir SimFFPE.buildbin-libdir && E:\biocbuild\bbs-3.21-bioc\R\bin\R.exe CMD INSTALL --build --library=SimFFPE.buildbin-libdir SimFFPE_1.19.0.tar.gz
StartedAt: 2025-02-20 08:47:35 -0500 (Thu, 20 Feb 2025)
EndedAt: 2025-02-20 08:48:00 -0500 (Thu, 20 Feb 2025)
EllapsedTime: 24.9 seconds
RetCode: 0
Status: OK
PackageFile: SimFFPE_1.19.0.zip
PackageFileSize: 801.8 <A href="http://en.wikipedia.org/wiki/KiB" target="_blank">KiB</A>