Package: SimFFPE
Version: 1.19.0
Command: /home/biocbuild/bbs-3.21-bioc/R/bin/R CMD INSTALL SimFFPE
StartedAt: 2025-02-19 15:15:48 -0500 (Wed, 19 Feb 2025)
EndedAt: 2025-02-19 15:16:02 -0500 (Wed, 19 Feb 2025)
EllapsedTime: 13.5 seconds
RetCode: 0
Status: OK