Package: SimFFPE
Version: 1.19.0
Command: /home/biocbuild/bbs-3.21-bioc/R/bin/R CMD check --install=check:SimFFPE.install-out.txt --library=/home/biocbuild/bbs-3.21-bioc/R/site-library --timings SimFFPE_1.19.0.tar.gz
StartedAt: 2025-02-20 02:32:19 -0500 (Thu, 20 Feb 2025)
EndedAt: 2025-02-20 02:37:40 -0500 (Thu, 20 Feb 2025)
EllapsedTime: 321.4 seconds
RetCode: 0
Status: OK
CheckDir: SimFFPE.Rcheck
Warnings: 0