Package: SimFFPE Version: 1.19.0 Command: /home/biocbuild/bbs-3.21-bioc/R/bin/R CMD build --keep-empty-dirs --no-resave-data SimFFPE StartedAt: 2025-02-19 19:15:16 -0500 (Wed, 19 Feb 2025) EndedAt: 2025-02-19 19:16:52 -0500 (Wed, 19 Feb 2025) EllapsedTime: 95.1 seconds RetCode: 0 Status: OK PackageFile: SimFFPE_1.19.0.tar.gz PackageFileSize: 750.2 <A href="http://en.wikipedia.org/wiki/KiB" target="_blank">KiB</A>