Package: SiPSiC
Version: 1.7.0
Command: E:\biocbuild\bbs-3.21-bioc\R\bin\R.exe CMD INSTALL SiPSiC
StartedAt: 2025-02-19 15:53:19 -0500 (Wed, 19 Feb 2025)
EndedAt: 2025-02-19 15:53:44 -0500 (Wed, 19 Feb 2025)
EllapsedTime: 25.1 seconds
RetCode: 0
Status: OK