Package: SiPSiC Version: 1.7.0 Command: chmod a+r SiPSiC -R && E:\biocbuild\bbs-3.21-bioc\R\bin\R.exe CMD build --keep-empty-dirs --no-resave-data SiPSiC StartedAt: 2025-02-19 21:43:21 -0500 (Wed, 19 Feb 2025) EndedAt: 2025-02-19 21:43:59 -0500 (Wed, 19 Feb 2025) EllapsedTime: 38.2 seconds RetCode: 0 Status: OK PackageFile: SiPSiC_1.7.0.tar.gz PackageFileSize: 236.9 <A href="http://en.wikipedia.org/wiki/KiB" target="_blank">KiB</A>