Package: SiPSiC Version: 1.7.0 Command: rm -rf SiPSiC.buildbin-libdir && mkdir SiPSiC.buildbin-libdir && E:\biocbuild\bbs-3.21-bioc\R\bin\R.exe CMD INSTALL --build --library=SiPSiC.buildbin-libdir SiPSiC_1.7.0.tar.gz StartedAt: 2025-02-20 08:48:03 -0500 (Thu, 20 Feb 2025) EndedAt: 2025-02-20 08:48:30 -0500 (Thu, 20 Feb 2025) EllapsedTime: 26.8 seconds RetCode: 0 Status: OK PackageFile: SiPSiC_1.7.0.zip PackageFileSize: 251.5 <A href="http://en.wikipedia.org/wiki/KiB" target="_blank">KiB</A>