Package: SiPSiC
Version: 1.7.0
Command: /Library/Frameworks/R.framework/Resources/bin/R CMD check --install=check:SiPSiC.install-out.txt --library=/Library/Frameworks/R.framework/Resources/library --no-vignettes --timings SiPSiC_1.7.0.tar.gz
StartedAt: 2025-02-19 21:32:15 -0500 (Wed, 19 Feb 2025)
EndedAt: 2025-02-19 21:33:14 -0500 (Wed, 19 Feb 2025)
EllapsedTime: 58.7 seconds
RetCode: 0
Status: OK
CheckDir: SiPSiC.Rcheck
Warnings: 0