Package: SiPSiC
Version: 1.7.0
Command: rm -rf SiPSiC.buildbin-libdir && mkdir SiPSiC.buildbin-libdir && /Users/biocbuild/BBS/utils/build-universal.sh SiPSiC_1.7.0.tar.gz /Library/Frameworks/R.framework/Resources/bin/R SiPSiC.buildbin-libdir
StartedAt: 2025-02-19 22:39:07 -0500 (Wed, 19 Feb 2025)
EndedAt: 2025-02-19 22:39:18 -0500 (Wed, 19 Feb 2025)
EllapsedTime: 11.2 seconds
RetCode: 0
Status: OK
PackageFile: SiPSiC_1.7.0.tgz
PackageFileSize: 247.3 <A href="http://en.wikipedia.org/wiki/KiB" target="_blank">KiB</A>