##############################################################################
##############################################################################
###
### Running command:
###
###   rm -rf SiPSiC.buildbin-libdir && mkdir SiPSiC.buildbin-libdir && /Users/biocbuild/BBS/utils/build-universal.sh SiPSiC_1.7.0.tar.gz /Library/Frameworks/R.framework/Resources/bin/R SiPSiC.buildbin-libdir
###
##############################################################################
##############################################################################


>>>>>>> 
>>>>>>> INSTALLATION WITH 'R CMD INSTALL --preclean --no-multiarch --library=SiPSiC.buildbin-libdir SiPSiC_1.7.0.tar.gz'
>>>>>>> 

* installing *source* package ‘SiPSiC’ ...
** this is package ‘SiPSiC’ version ‘1.7.0’
** using staged installation
** R
** inst
** byte-compile and prepare package for lazy loading
** help
*** installing help indices
** building package indices
** installing vignettes
** testing if installed package can be loaded from temporary location
** testing if installed package can be loaded from final location
** testing if installed package keeps a record of temporary installation path
* DONE (SiPSiC)