Package: SharedObject Version: 1.21.0 Command: rm -rf SharedObject.buildbin-libdir && mkdir SharedObject.buildbin-libdir && /Users/biocbuild/BBS/utils/build-universal.sh SharedObject_1.21.0.tar.gz /Library/Frameworks/R.framework/Resources/bin/R SharedObject.buildbin-libdir StartedAt: 2025-02-01 00:39:30 -0500 (Sat, 01 Feb 2025) EndedAt: 2025-02-01 00:40:13 -0500 (Sat, 01 Feb 2025) EllapsedTime: 43.0 seconds RetCode: 0 Status: OK PackageFile: SharedObject_1.21.0.tgz PackageFileSize: 2.004 MiB