Package: SeqSQC
Version: 1.29.0
Command: /home/biocbuild/R/R/bin/R CMD check --install=check:SeqSQC.install-out.txt --library=/home/biocbuild/R/R/site-library --no-vignettes --timings SeqSQC_1.29.0.tar.gz
StartedAt: 2025-01-28 15:15:48 -0000 (Tue, 28 Jan 2025)
EndedAt: 2025-01-28 15:19:37 -0000 (Tue, 28 Jan 2025)
EllapsedTime: 229.3 seconds
RetCode: 0
Status: WARNINGS
CheckDir: SeqSQC.Rcheck
Warnings: 1