Package: Scale4C
Version: 1.29.0
Command: /home/biocbuild/bbs-3.21-bioc/R/bin/R CMD INSTALL Scale4C
StartedAt: 2025-02-19 15:18:03 -0500 (Wed, 19 Feb 2025)
EndedAt: 2025-02-19 15:18:31 -0500 (Wed, 19 Feb 2025)
EllapsedTime: 28.1 seconds
RetCode: 0
Status: OK