Package: Scale4C
Version: 1.29.0
Command: /home/biocbuild/bbs-3.21-bioc/R/bin/R CMD check --install=check:Scale4C.install-out.txt --library=/home/biocbuild/bbs-3.21-bioc/R/site-library --timings Scale4C_1.29.0.tar.gz
StartedAt: 2025-02-20 02:04:43 -0500 (Thu, 20 Feb 2025)
EndedAt: 2025-02-20 02:08:59 -0500 (Thu, 20 Feb 2025)
EllapsedTime: 256.4 seconds
RetCode: 0
Status: OK
CheckDir: Scale4C.Rcheck
Warnings: 0