Package: Scale4C Version: 1.29.0 Command: /home/biocbuild/bbs-3.21-bioc/R/bin/R CMD build --keep-empty-dirs --no-resave-data Scale4C StartedAt: 2025-02-19 19:01:43 -0500 (Wed, 19 Feb 2025) EndedAt: 2025-02-19 19:03:20 -0500 (Wed, 19 Feb 2025) EllapsedTime: 97.2 seconds RetCode: 0 Status: OK PackageFile: Scale4C_1.29.0.tar.gz PackageFileSize: 4.901 <A href="http://en.wikipedia.org/wiki/MiB" target="_blank">MiB</A>