Package: Scale4C Version: 1.29.0 Command: /Library/Frameworks/R.framework/Resources/bin/R CMD INSTALL Scale4C StartedAt: 2025-02-19 15:12:44 -0500 (Wed, 19 Feb 2025) EndedAt: 2025-02-19 15:13:21 -0500 (Wed, 19 Feb 2025) EllapsedTime: 36.9 seconds RetCode: 0 Status: OK