Package: Scale4C
Version: 1.29.0
Command: /Library/Frameworks/R.framework/Resources/bin/R CMD build --keep-empty-dirs --no-resave-data Scale4C
StartedAt: 2025-02-19 18:06:30 -0500 (Wed, 19 Feb 2025)
EndedAt: 2025-02-19 18:08:16 -0500 (Wed, 19 Feb 2025)
EllapsedTime: 106.0 seconds
RetCode: 0
Status: OK
PackageFile: Scale4C_1.29.0.tar.gz
PackageFileSize: 4.9 <A href="http://en.wikipedia.org/wiki/MiB" target="_blank">MiB</A>