Package: Scale4C
Version: 1.29.0
Command: /home/biocbuild/R/R/bin/R CMD INSTALL Scale4C
StartedAt: 2025-01-29 19:58:20 -0000 (Wed, 29 Jan 2025)
EndedAt: 2025-01-29 19:59:00 -0000 (Wed, 29 Jan 2025)
EllapsedTime: 40.1 seconds
RetCode: 0
Status: OK