Package: Scale4C
Version: 1.29.0
Command: /home/biocbuild/R/R/bin/R CMD check --install=check:Scale4C.install-out.txt --library=/home/biocbuild/R/R/site-library --no-vignettes --timings Scale4C_1.29.0.tar.gz
StartedAt: 2025-01-28 14:53:35 -0000 (Tue, 28 Jan 2025)
EndedAt: 2025-01-28 14:57:46 -0000 (Tue, 28 Jan 2025)
EllapsedTime: 251.3 seconds
RetCode: 0
Status: OK
CheckDir: Scale4C.Rcheck
Warnings: 0