Package: Scale4C Version: 1.29.0 Command: /home/biocbuild/R/R/bin/R CMD build --keep-empty-dirs --no-resave-data Scale4C StartedAt: 2025-01-29 01:57:59 -0000 (Wed, 29 Jan 2025) EndedAt: 2025-01-29 02:00:06 -0000 (Wed, 29 Jan 2025) EllapsedTime: 127.1 seconds RetCode: 0 Status: OK PackageFile: Scale4C_1.29.0.tar.gz PackageFileSize: 4.9 <A href="http://en.wikipedia.org/wiki/MiB" target="_blank">MiB</A>