Package: Scale4C Version: 1.29.0 Command: /Library/Frameworks/R.framework/Resources/bin/R CMD check --install=check:Scale4C.install-out.txt --library=/Library/Frameworks/R.framework/Resources/library --no-vignettes --timings Scale4C_1.29.0.tar.gz StartedAt: 2025-02-19 21:15:15 -0500 (Wed, 19 Feb 2025) EndedAt: 2025-02-19 21:16:27 -0500 (Wed, 19 Feb 2025) EllapsedTime: 71.9 seconds RetCode: 0 Status: OK CheckDir: Scale4C.Rcheck Warnings: 0