Package: Scale4C
Version: 1.29.0
Command: /Library/Frameworks/R.framework/Resources/bin/R CMD build --keep-empty-dirs --no-resave-data Scale4C
StartedAt: 2025-02-19 17:30:15 -0500 (Wed, 19 Feb 2025)
EndedAt: 2025-02-19 17:30:48 -0500 (Wed, 19 Feb 2025)
EllapsedTime: 33.4 seconds
RetCode: 0
Status: OK
PackageFile: Scale4C_1.29.0.tar.gz
PackageFileSize: 4.901 <A href="http://en.wikipedia.org/wiki/MiB" target="_blank">MiB</A>