Package: Scale4C
Version: 1.29.0
Command: rm -rf Scale4C.buildbin-libdir && mkdir Scale4C.buildbin-libdir && /Users/biocbuild/BBS/utils/build-universal.sh Scale4C_1.29.0.tar.gz /Library/Frameworks/R.framework/Resources/bin/R Scale4C.buildbin-libdir
StartedAt: 2025-02-19 22:36:57 -0500 (Wed, 19 Feb 2025)
EndedAt: 2025-02-19 22:37:11 -0500 (Wed, 19 Feb 2025)
EllapsedTime: 13.3 seconds
RetCode: 0
Status: OK
PackageFile: Scale4C_1.29.0.tgz
PackageFileSize: 2.144 <A href="http://en.wikipedia.org/wiki/MiB" target="_blank">MiB</A>