Package: SWATH2stats Version: 1.37.0 Command: /home/biocbuild/bbs-3.21-bioc/R/bin/R CMD INSTALL SWATH2stats StartedAt: 2025-01-31 15:32:19 -0500 (Fri, 31 Jan 2025) EndedAt: 2025-01-31 15:32:35 -0500 (Fri, 31 Jan 2025) EllapsedTime: 16.2 seconds RetCode: 0 Status: OK