Package: SWATH2stats Version: 1.37.0 Command: /home/biocbuild/bbs-3.21-bioc/R/bin/R CMD check --install=check:SWATH2stats.install-out.txt --library=/home/biocbuild/bbs-3.21-bioc/R/site-library --timings SWATH2stats_1.37.0.tar.gz StartedAt: 2025-02-01 03:07:39 -0500 (Sat, 01 Feb 2025) EndedAt: 2025-02-01 03:10:33 -0500 (Sat, 01 Feb 2025) EllapsedTime: 173.3 seconds RetCode: 0 Status: OK CheckDir: SWATH2stats.Rcheck Warnings: 0