Package: SWATH2stats Version: 1.37.0 Command: /Library/Frameworks/R.framework/Resources/bin/R CMD check --install=check:SWATH2stats.install-out.txt --library=/Library/Frameworks/R.framework/Resources/library --no-vignettes --timings SWATH2stats_1.37.0.tar.gz StartedAt: 2025-01-31 23:28:30 -0500 (Fri, 31 Jan 2025) EndedAt: 2025-01-31 23:31:13 -0500 (Fri, 31 Jan 2025) EllapsedTime: 163.1 seconds RetCode: 0 Status: OK CheckDir: SWATH2stats.Rcheck Warnings: 0