Package: SWATH2stats Version: 1.37.0 Command: /Library/Frameworks/R.framework/Resources/bin/R CMD build --keep-empty-dirs --no-resave-data SWATH2stats StartedAt: 2025-01-31 17:47:03 -0500 (Fri, 31 Jan 2025) EndedAt: 2025-01-31 17:47:24 -0500 (Fri, 31 Jan 2025) EllapsedTime: 21.2 seconds RetCode: 0 Status: OK PackageFile: SWATH2stats_1.37.0.tar.gz PackageFileSize: 3.032 MiB