Package: SRAdb Version: 1.69.2 Command: /Library/Frameworks/R.framework/Resources/bin/R CMD INSTALL SRAdb StartedAt: 2025-01-31 15:07:08 -0500 (Fri, 31 Jan 2025) EndedAt: 2025-01-31 15:07:10 -0500 (Fri, 31 Jan 2025) EllapsedTime: 2.4 seconds RetCode: 0 Status: OK