Package: SPsimSeq
Version: 1.17.0
Command: /Library/Frameworks/R.framework/Resources/bin/R CMD INSTALL SPsimSeq
StartedAt: 2025-02-19 15:22:42 -0500 (Wed, 19 Feb 2025)
EndedAt: 2025-02-19 15:22:56 -0500 (Wed, 19 Feb 2025)
EllapsedTime: 14.1 seconds
RetCode: 0
Status: OK