Package: SPsimSeq Version: 1.17.0 Command: /Library/Frameworks/R.framework/Resources/bin/R CMD check --install=check:SPsimSeq.install-out.txt --library=/Library/Frameworks/R.framework/Resources/library --no-vignettes --timings SPsimSeq_1.17.0.tar.gz StartedAt: 2025-02-19 21:42:38 -0500 (Wed, 19 Feb 2025) EndedAt: 2025-02-19 21:44:56 -0500 (Wed, 19 Feb 2025) EllapsedTime: 138.6 seconds RetCode: 0 Status: OK CheckDir: SPsimSeq.Rcheck Warnings: 0