Package: SPsimSeq
Version: 1.17.0
Command: /Library/Frameworks/R.framework/Resources/bin/R CMD build --keep-empty-dirs --no-resave-data SPsimSeq
StartedAt: 2025-02-19 17:44:43 -0500 (Wed, 19 Feb 2025)
EndedAt: 2025-02-19 17:45:58 -0500 (Wed, 19 Feb 2025)
EllapsedTime: 75.9 seconds
RetCode: 0
Status: OK
PackageFile: SPsimSeq_1.17.0.tar.gz
PackageFileSize: 774.1 <A href="http://en.wikipedia.org/wiki/KiB" target="_blank">KiB</A>