Package: SPsimSeq Version: 1.17.0 Command: rm -rf SPsimSeq.buildbin-libdir && mkdir SPsimSeq.buildbin-libdir && /Users/biocbuild/BBS/utils/build-universal.sh SPsimSeq_1.17.0.tar.gz /Library/Frameworks/R.framework/Resources/bin/R SPsimSeq.buildbin-libdir StartedAt: 2025-02-19 22:40:07 -0500 (Wed, 19 Feb 2025) EndedAt: 2025-02-19 22:40:23 -0500 (Wed, 19 Feb 2025) EllapsedTime: 15.4 seconds RetCode: 0 Status: OK PackageFile: SPsimSeq_1.17.0.tgz PackageFileSize: 944.4 <A href="http://en.wikipedia.org/wiki/KiB" target="_blank">KiB</A>