Package: SPONGE Version: 1.29.0 Command: /Library/Frameworks/R.framework/Resources/bin/R CMD build --keep-empty-dirs --no-resave-data SPONGE StartedAt: 2025-01-31 18:24:32 -0500 (Fri, 31 Jan 2025) EndedAt: 2025-01-31 18:27:50 -0500 (Fri, 31 Jan 2025) EllapsedTime: 197.7 seconds RetCode: 0 Status: OK PackageFile: SPONGE_1.29.0.tar.gz PackageFileSize: 8.972 MiB