Package: SOMNiBUS
Version: 1.15.1
Maintainer: Kathleen Klein
MaintainerEmail: kathleen.klein at mail.mcgill.ca
git_url: https://git.bioconductor.org/packages/SOMNiBUS
git_branch: devel
git_last_commit: 8d2582e
git_last_commit_date: 2024-12-31 13:02:11 -0500 (Tue, 31 Dec 2024)