Package: SIMD
Version: 1.25.0
Maintainer: Jiadi Zhu
MaintainerEmail: 2160090406 at email.szu.edu.cn
git_url: https://git.bioconductor.org/packages/SIMD
git_branch: devel
git_last_commit: 6259f02
git_last_commit_date: 2024-10-29 10:31:27 -0500 (Tue, 29 Oct 2024)